View In:
ArcGIS JavaScript
ArcGIS Online Map Viewer
ArcGIS Earth
Service Description: AQI_layer
Name: AQI_layer
Description:
Single Fused Map Cache: false
Extent:
XMin: 9.77860064969015
YMin: 53.41066188876047
XMax: 10.23517693006075
YMax: 53.68406085904227
Spatial Reference: 4326
(4326)
LatestVCSWkid(0)
Initial Extent:
XMin: 9.77860064969015
YMin: 53.41066188876047
XMax: 10.23517693006075
YMax: 53.68406085904227
Spatial Reference: 4326
(4326)
LatestVCSWkid(0)
Full Extent:
XMin: 9.77860064969015
YMin: 53.41066188876047
XMax: 10.23517693006075
YMax: 53.68406085904227
Spatial Reference: 4326
(4326)
LatestVCSWkid(0)
Time Info:
Start Time Field: StdTime
End Time Field: StdTime
Time Extent:
[2025/10/06 00:00:00 UTC, 2025/10/07 00:00:00 UTC]
Time Reference:
N/A
Pixel Size X: 9.113299009393208E-4
Pixel Size Y: 9.113299009393216E-4
Band Count: 1
Pixel Type: F32
RasterFunction Infos: {"rasterFunctionInfos": [{
"name": "None",
"description": "",
"help": ""
}]}
Mensuration Capabilities: Basic
Has Histograms: true
Has Colormap: false
Has Multi Dimensions : true
Rendering Rule:
Min Scale: 0
Max Scale: 0
Copyright Text:
Service Data Type: esriImageServiceDataTypeScientific
Min Values: 2
Max Values: 6
Mean Values: 2.400602666666678
Standard Deviation Values: 0.49326960343899584
Object ID Field:
Fields:
None
Default Mosaic Method: Center
Allowed Mosaic Methods:
SortField:
SortValue: null
Mosaic Operator: First
Default Compression Quality: 75
Default Resampling Method: Bilinear
Max Record Count: null
Max Image Height: 4100
Max Image Width: 15000
Max Download Image Count: null
Max Mosaic Image Count: null
Allow Raster Function: true
Allow Copy: true
Allow Analysis: true
Allow Compute TiePoints: false
Supports Statistics: false
Supports Advanced Queries: false
Use StandardizedQueries: true
Raster Type Infos:
Name: Raster Dataset
Description: Supports all ArcGIS Raster Datasets
Help:
Has Raster Attribute Table: false
Edit Fields Info: null
Ownership Based AccessControl For Rasters: null
Child Resources:
Info
Histograms
Statistics
Key Properties
Legend
Raster Function Infos
Multidimensional Info
Slices
Supported Operations:
Export Image
Identify
Measure
Compute Histograms
Compute Statistics Histograms
Get Samples
Compute Class Statistics
Query Boundary
Compute Pixel Location
Compute Angles
Validate
Project